BEGIN:VCALENDAR
VERSION:2.0
PRODID:-//Lancaster Camera Club - ECPv6.15.18//NONSGML v1.0//EN
CALSCALE:GREGORIAN
METHOD:PUBLISH
X-ORIGINAL-URL:https://lancastercameraclub.org
X-WR-CALDESC:Events for Lancaster Camera Club
REFRESH-INTERVAL;VALUE=DURATION:PT1H
X-Robots-Tag:noindex
X-PUBLISHED-TTL:PT1H
BEGIN:VTIMEZONE
TZID:America/New_York
BEGIN:DAYLIGHT
TZOFFSETFROM:-0500
TZOFFSETTO:-0400
TZNAME:EDT
DTSTART:20250309T070000
END:DAYLIGHT
BEGIN:STANDARD
TZOFFSETFROM:-0400
TZOFFSETTO:-0500
TZNAME:EST
DTSTART:20251102T060000
END:STANDARD
BEGIN:DAYLIGHT
TZOFFSETFROM:-0500
TZOFFSETTO:-0400
TZNAME:EDT
DTSTART:20260308T070000
END:DAYLIGHT
BEGIN:STANDARD
TZOFFSETFROM:-0400
TZOFFSETTO:-0500
TZNAME:EST
DTSTART:20261101T060000
END:STANDARD
BEGIN:DAYLIGHT
TZOFFSETFROM:-0500
TZOFFSETTO:-0400
TZNAME:EDT
DTSTART:20270314T070000
END:DAYLIGHT
BEGIN:STANDARD
TZOFFSETFROM:-0400
TZOFFSETTO:-0500
TZNAME:EST
DTSTART:20271107T060000
END:STANDARD
END:VTIMEZONE
BEGIN:VEVENT
DTSTART;TZID=America/New_York:20260105T190000
DTEND;TZID=America/New_York:20260105T210000
DTSTAMP:20260424T165527
CREATED:20251105T011514Z
LAST-MODIFIED:20251206T134114Z
UID:2211-1767639600-1767646800@lancastercameraclub.org
SUMMARY:January 2026 Meeting - Competition
DESCRIPTION:January 5th meeting – Member Competition:  Best Images from 2025 \n  This will be a ‘print’ competition (as opposed to digital images) for club members**.  Look through your images and select a few of your favorites\, your best… \n  Click here to review the guidelines for the competition!!  Very helpful and important information you want to read before entering the competition. \n** Membership – 2026 \n It is time to pay our 2026 membership dues; and it needs to be paid in order to enter the competition.  Dues is set at $40 again this year.  See the web page and the membership form.  Family and student rates are also available.  If you are renewing your membership\, and your personal information has not changed\, you do not need to fill out a form. \nClick here for membership information and the membership form.
URL:https://lancastercameraclub.org/event/january-2026-meeting/
LOCATION:Mellinger Mennonite Church\, 1916 Lincoln Hwy. E.\, Lancaster\, Pennsylvania\, 17602
END:VEVENT
END:VCALENDAR